BEGIN:VCALENDAR
VERSION:2.0
PRODID:-//wp-events-plugin.com//7.2.3.1//EN
TZID:Europe/Berlin
X-WR-TIMEZONE:Europe/Berlin
BEGIN:VEVENT
UID:15@kassai.at
DTSTART;TZID=Europe/Berlin:20210719T090000
DTEND;TZID=Europe/Berlin:20210721T120000
DTSTAMP:20210324T124116Z
URL:https://www.kassai.at/events/parelli-minis-in-bockfliess/
SUMMARY:Parelli Minis in Bockfliess
DESCRIPTION:mit Nina Irsigler und Kerstin Pressel\n\nUnsere kleinsten Parel
 lianer werden mit dem Partner Pferd 3 Tage voller Spass und Action verbrin
 gen: ein kleiner Ausritt\, eine Schnitzeljagd und eine riesen Portion neue
 s Wissen über die Bedürfnisse und das Verhalten der Pferde.\nKosten: 220
 € inklusive Leihpferd\nKurszeiten: 9.00- 12.00 Uhr\nKursort: Bockfliess\
 , Kassai Horsebackarchery\nAnmeldung und Infos unter: kerstin@kassai.at od
 er&nbsp\;0699 100 89648\n\n[ngg src="galleries" ids="13" display="basic_th
 umbnail" thumbnail_crop="0"]
CATEGORIES:Kids,Parelli Natural Horsemanship
END:VEVENT
BEGIN:VTIMEZONE
TZID:Europe/Berlin
X-LIC-LOCATION:Europe/Berlin
BEGIN:DAYLIGHT
DTSTART:20210328T030000
TZOFFSETFROM:+0100
TZOFFSETTO:+0200
TZNAME:CEST
END:DAYLIGHT
END:VTIMEZONE
END:VCALENDAR